BEGIN:VCALENDAR
VERSION:2.0
PRODID:-//hacksw/handcal//NONSGML v1.0//EN
CALSCALE:GREGORIAN
BEGIN:VEVENT
ORGANIZER;CN=JinkoSolar:MAILTO:no-reply@mail.gcs-web.com
DTEND:
UID:70205e51-3506-457c-bb43-6446b3e9bed5
DTSTAMP:1776871975
LOCATION:https://edge.media-server.com/mmc/p/rzdi7qpp
DESCRIPTION:Event Details https://ir.jinkosolar.com/events/event-details/q1-2026-jinkosolar-holding-co-ltd-earnings-conference-call\n\nWebcast: https://edge.media-server.com/mmc/p/rzdi7qpp
URL;VALUE=URI:https://edge.media-server.com/mmc/p/rzdi7qpp
SUMMARY:JinkoSolar - Q1 2026 JinkoSolar Holding Co., Ltd. Earnings Conference Call
DTSTART:20260429T123000Z
END:VEVENT
END:VCALENDAR